Back to Multiple platform build/check report for BioC 3.15
A[B]CDEFGHIJKLMNOPQRSTUVWXYZ

This page was generated on 2022-01-17 11:06:52 -0500 (Mon, 17 Jan 2022).

HostnameOSArch (*)R versionInstalled pkgs
nebbiolo1Linux (Ubuntu 20.04.4 LTS)x86_64R Under development (unstable) (2022-01-05 r81451) -- "Unsuffered Consequences" 4161
riesling1Windows Server 2019 Standardx64R Under development (unstable) (2021-11-21 r81221) -- "Unsuffered Consequences" 4056
palomino3Windows Server 2022 Datacenterx64R Under development (unstable) (2021-12-21 r81400 ucrt) -- "Unsuffered Consequences" 3998
merida1macOS 10.14.6 Mojavex86_64R Under development (unstable) (2022-01-05 r81451) -- "Unsuffered Consequences" 4115
Click on any hostname to see more info about the system (e.g. compilers)      (*) as reported by 'uname -p', except on Windows and Mac OS X

BUILD BIN results for biomvRCNS on riesling1


To the developers/maintainers of the biomvRCNS package:
- Please allow up to 24 hours (and sometimes 48 hours) for your latest push to git@git.bioconductor.org:packages/biomvRCNS.git to
reflect on this report. See How and When does the builder pull? When will my changes propagate? here for more information.
- Make sure to use the following settings in order to reproduce any error or warning you see on this page.

raw results

Package 183/2074HostnameOS / ArchINSTALLBUILDCHECKBUILD BIN
biomvRCNS 1.35.1  (landing page)
Yang Du
Snapshot Date: 2022-01-16 13:55:18 -0500 (Sun, 16 Jan 2022)
git_url: https://git.bioconductor.org/packages/biomvRCNS
git_branch: master
git_last_commit: bf846ae
git_last_commit_date: 2021-11-20 23:10:08 -0500 (Sat, 20 Nov 2021)
nebbiolo1Linux (Ubuntu 20.04.4 LTS) / x86_64  OK    OK    OK  UNNEEDED, same version is already published
riesling1Windows Server 2019 Standard / x64  OK    OK    OK    OK  
palomino3Windows Server 2022 Datacenter / x64  OK    OK    OK    OK  NO, package depends on 'IRanges' which is not available
merida1macOS 10.14.6 Mojave / x86_64  OK    OK    OK    OK  UNNEEDED, same version is already published

Summary

Package: biomvRCNS
Version: 1.35.1
Command: rm -rf biomvRCNS.buildbin-libdir && mkdir biomvRCNS.buildbin-libdir && D:\biocbuild\bbs-3.15-bioc\R\bin\R.exe CMD INSTALL --build --library=biomvRCNS.buildbin-libdir biomvRCNS_1.35.1.tar.gz
StartedAt: 2022-01-16 20:47:48 -0500 (Sun, 16 Jan 2022)
EndedAt: 2022-01-16 20:48:53 -0500 (Sun, 16 Jan 2022)
EllapsedTime: 65.5 seconds
RetCode: 0
Status:   OK  
PackageFile: biomvRCNS_1.35.1.zip
PackageFileSize: 1.138 MiB

Command output

##############################################################################
##############################################################################
###
### Running command:
###
###   rm -rf biomvRCNS.buildbin-libdir && mkdir biomvRCNS.buildbin-libdir && D:\biocbuild\bbs-3.15-bioc\R\bin\R.exe CMD INSTALL --build --library=biomvRCNS.buildbin-libdir biomvRCNS_1.35.1.tar.gz
###
##############################################################################
##############################################################################


* installing *source* package 'biomvRCNS' ...
** using staged installation
** libs
"C:/rtools40/mingw64/bin/"gcc  -I"D:/biocbuild/bbs-3.15-bioc/R/include" -DNDEBUG     -I"C:/extsoft/include"     -O2 -Wall  -std=gnu99 -mfpmath=sse -msse2 -mstackrealign -fno-reorder-blocks-and-partition  -c biomvRCNS.c -o biomvRCNS.o
C:/rtools40/mingw64/bin/gcc -shared -s -static-libgcc -o biomvRCNS.dll tmp.def biomvRCNS.o -LC:/extsoft/lib/x64 -LC:/extsoft/lib -LD:/biocbuild/bbs-3.15-bioc/R/bin/x64 -lR
installing to D:/biocbuild/bbs-3.15-bioc/meat/biomvRCNS.buildbin-libdir/00LOCK-biomvRCNS/00new/biomvRCNS/libs/x64
** R
** data
** inst
** byte-compile and prepare package for lazy loading
** help
*** installing help indices
  converting help for package 'biomvRCNS'
    finding HTML links ... done
    biomvRCNS-class                         html  
    biomvRGviz                              html  
    biomvRhsmm                              html  
    biomvRmgmr                              html  
    biomvRseg                               html  
    coriell                                 html  
    encodeTP53                              html  
    hsmmRun                                 html  
    maxGapminRun                            html  
    regionSegAlphaNB                        html  
    regionSegCost                           html  
    simSegData                              html  
    sojournAnno                             html  
    splitFarNeighbour                       html  
    variosm                                 html  
** building package indices
** installing vignettes
** testing if installed package can be loaded from temporary location
** testing if installed package can be loaded from final location
** testing if installed package keeps a record of temporary installation path
* MD5 sums
packaged installation of 'biomvRCNS' as biomvRCNS_1.35.1.zip
* DONE (biomvRCNS)