Name | Last modified | Size | Description | |
---|---|---|---|---|
Parent Directory | - | |||
buildbin-out.txt | 17-Jul-2024 00:41 | 1.5K | ||
buildbin-summary.dcf | 17-Jul-2024 00:41 | 548 | ||
buildsrc-out.txt | 17-Jul-2024 00:41 | 828 | ||
buildsrc-summary.dcf | 17-Jul-2024 00:41 | 436 | ||
checksrc-out.txt | 17-Jul-2024 00:41 | 3.6K | ||
checksrc-summary.dcf | 17-Jul-2024 00:41 | 456 | ||
install-out.txt | 17-Jul-2024 00:41 | 1.4K | ||
install-summary.dcf | 17-Jul-2024 00:41 | 275 | ||