Back to Multiple platform build/check report for BioC 3.15
A[B]CDEFGHIJKLMNOPQRSTUVWXYZ

This page was generated on 2022-01-20 11:06:50 -0500 (Thu, 20 Jan 2022).

HostnameOSArch (*)R versionInstalled pkgs
nebbiolo1Linux (Ubuntu 20.04.4 LTS)x86_64R Under development (unstable) (2022-01-05 r81451) -- "Unsuffered Consequences" 4162
riesling1Windows Server 2019 Standardx64R Under development (unstable) (2021-11-21 r81221) -- "Unsuffered Consequences" 4057
palomino3Windows Server 2022 Datacenterx64R Under development (unstable) (2021-12-21 r81400 ucrt) -- "Unsuffered Consequences" 3999
merida1macOS 10.14.6 Mojavex86_64R Under development (unstable) (2022-01-05 r81451) -- "Unsuffered Consequences" 4116
Click on any hostname to see more info about the system (e.g. compilers)      (*) as reported by 'uname -p', except on Windows and Mac OS X

INSTALL results for biomaRt on riesling1


To the developers/maintainers of the biomaRt package:
- Please allow up to 24 hours (and sometimes 48 hours) for your latest push to git@git.bioconductor.org:packages/biomaRt.git to
reflect on this report. See How and When does the builder pull? When will my changes propagate? here for more information.
- Make sure to use the following settings in order to reproduce any error or warning you see on this page.

raw results

Package 179/2074HostnameOS / ArchINSTALLBUILDCHECKBUILD BIN
biomaRt 2.51.2  (landing page)
Mike Smith
Snapshot Date: 2022-01-19 13:55:26 -0500 (Wed, 19 Jan 2022)
git_url: https://git.bioconductor.org/packages/biomaRt
git_branch: master
git_last_commit: 0d887b7
git_last_commit_date: 2022-01-12 04:45:01 -0500 (Wed, 12 Jan 2022)
nebbiolo1Linux (Ubuntu 20.04.4 LTS) / x86_64  OK    OK    OK  UNNEEDED, same version is already published
riesling1Windows Server 2019 Standard / x64  OK    OK    OK    OK  
palomino3Windows Server 2022 Datacenter / x64  OK    OK    OK    OK  NO, package depends on 'AnnotationDbi' which is not available
merida1macOS 10.14.6 Mojave / x86_64  OK    OK    OK    OK  UNNEEDED, same version is already published

Summary

Package: biomaRt
Version: 2.51.2
Command: D:\biocbuild\bbs-3.15-bioc\R\bin\R.exe CMD INSTALL biomaRt
StartedAt: 2022-01-19 15:41:06 -0500 (Wed, 19 Jan 2022)
EndedAt: 2022-01-19 15:42:01 -0500 (Wed, 19 Jan 2022)
EllapsedTime: 54.9 seconds
RetCode: 0
Status:   OK  

Command output

##############################################################################
##############################################################################
###
### Running command:
###
###   D:\biocbuild\bbs-3.15-bioc\R\bin\R.exe CMD INSTALL biomaRt
###
##############################################################################
##############################################################################


* installing to library 'D:/biocbuild/bbs-3.15-bioc/R/library'
* installing *source* package 'biomaRt' ...
** using staged installation
** R
** inst
** byte-compile and prepare package for lazy loading
** help
*** installing help indices
  converting help for package 'biomaRt'
    finding HTML links ... done
    Mart-class                              html  
    NP2009code                              html  
    attributePages                          html  
    biomaRt-deprecated                      html  
    biomartCache                            html  
    exportFASTA                             html  
    filterType                              html  
    getBM                                   html  
    getGene                                 html  
    getLDS                                  html  
    getSequence                             html  
    listAttributes                          html  
    listDatasets                            html  
    listEnsembl                             html  
    listEnsemblArchives                     html  
    listFilterValues                        html  
    listFilters                             html  
    listMarts                               html  
    select                                  html  
    useDataset                              html  
    useEnsembl                              html  
    useMart                                 html  
** building package indices
** installing vignettes
** testing if installed package can be loaded from temporary location
** testing if installed package can be loaded from final location
** testing if installed package keeps a record of temporary installation path
* DONE (biomaRt)
Making 'packages.html' ...Warning in packageDescription(i, lib.loc = lib, fields = "Title", encoding = "UTF-8") :
  DESCRIPTION file of package 'waddR' is missing or broken
 done