Name | Last modified | Size | Description | |
---|---|---|---|---|
Parent Directory | - | |||
buildbin-out.txt | 21-May-2024 00:37 | 8.3K | ||
buildbin-summary.dcf | 21-May-2024 00:37 | 543 | ||
buildsrc-out.txt | 21-May-2024 00:37 | 854 | ||
buildsrc-summary.dcf | 21-May-2024 00:37 | 434 | ||
checksrc-out.txt | 21-May-2024 00:37 | 3.5K | ||
checksrc-summary.dcf | 21-May-2024 00:37 | 457 | ||
install-out.txt | 21-May-2024 00:37 | 6.2K | ||
install-summary.dcf | 21-May-2024 00:37 | 274 | ||