Index of /checkResults/devel/bioc-LATEST/biodbChebi/raw-results
Name
Last modified
Size
Description
Parent Directory
-
merida1/
18-May-2024 00:38
-
palomino4/
18-May-2024 00:37
-
nebbiolo2/
18-May-2024 00:36
-
info.dcf
18-May-2024 00:35
273
kunpeng2/
16-May-2024 02:46
-