Name | Last modified | Size | Description | |
---|---|---|---|---|
Parent Directory | - | |||
buildbin-out.txt | 18-May-2024 00:38 | 5.1K | ||
buildbin-summary.dcf | 18-May-2024 00:38 | 519 | ||
buildsrc-out.txt | 18-May-2024 00:38 | 838 | ||
buildsrc-summary.dcf | 18-May-2024 00:38 | 422 | ||
checksrc-out.txt | 18-May-2024 00:38 | 15K | ||
checksrc-summary.dcf | 18-May-2024 00:38 | 436 | ||
install-out.txt | 18-May-2024 00:38 | 3.1K | ||
install-summary.dcf | 18-May-2024 00:38 | 266 | ||