Name | Last modified | Size | Description | |
---|---|---|---|---|
Parent Directory | - | |||
buildsrc-out.txt | 27-Jul-2024 00:38 | 901 | ||
buildsrc-summary.dcf | 27-Jul-2024 00:38 | 429 | ||
checksrc-out.txt | 27-Jul-2024 00:38 | 5.1K | ||
checksrc-summary.dcf | 27-Jul-2024 00:38 | 428 | ||
install-out.txt | 27-Jul-2024 00:38 | 966 | ||
install-summary.dcf | 27-Jul-2024 00:38 | 262 | ||