![]() | Name | Last modified | Size | Description |
---|---|---|---|---|
![]() | Parent Directory | - | ||
![]() | buildsrc-out.txt | 24-Sep-2023 00:36 | 877 | |
![]() | buildsrc-summary.dcf | 24-Sep-2023 00:36 | 423 | |
![]() | checksrc-out.txt | 24-Sep-2023 00:36 | 4.3K | |
![]() | checksrc-summary.dcf | 24-Sep-2023 00:36 | 421 | |
![]() | install-out.txt | 24-Sep-2023 00:36 | 966 | |
![]() | install-summary.dcf | 24-Sep-2023 00:36 | 263 | |