Name | Last modified | Size | Description | |
---|---|---|---|---|
Parent Directory | - | |||
checksrc-out.txt | 28-Jul-2024 00:40 | 5.0K | ||
buildbin-out.txt | 28-Jul-2024 00:40 | 1.2K | ||
install-out.txt | 28-Jul-2024 00:40 | 1.0K | ||
buildsrc-out.txt | 28-Jul-2024 00:40 | 887 | ||
buildbin-summary.dcf | 28-Jul-2024 00:40 | 542 | ||
checksrc-summary.dcf | 28-Jul-2024 00:40 | 457 | ||
buildsrc-summary.dcf | 28-Jul-2024 00:40 | 433 | ||
install-summary.dcf | 28-Jul-2024 00:40 | 273 | ||