![]() | Name | Last modified | Size | Description |
---|---|---|---|---|
![]() | Parent Directory | - | ||
![]() | buildsrc-out.txt | 29-Sep-2023 00:40 | 871 | |
![]() | buildsrc-summary.dcf | 29-Sep-2023 00:40 | 417 | |
![]() | checksrc-out.txt | 29-Sep-2023 00:40 | 4.3K | |
![]() | checksrc-summary.dcf | 29-Sep-2023 00:40 | 409 | |
![]() | install-out.txt | 29-Sep-2023 00:40 | 954 | |
![]() | install-summary.dcf | 29-Sep-2023 00:40 | 257 | |