Back to Multiple platform build/check report for BioC 3.17:   simplified   long
A[B]CDEFGHIJKLMNOPQRSTUVWXYZ

This page was generated on 2023-03-24 11:06:36 -0400 (Fri, 24 Mar 2023).

HostnameOSArch (*)R versionInstalled pkgs
nebbiolo1Linux (Ubuntu 22.04.1 LTS)x86_64R Under development (unstable) (2023-03-16 r83996) -- "Unsuffered Consequences" 4546
palomino3Windows Server 2022 Datacenterx64R Under development (unstable) (2023-03-15 r83984 ucrt) -- "Unsuffered Consequences" 4307
merida1macOS 10.14.6 Mojavex86_64R Under development (unstable) (2023-03-16 r83985) -- "Unsuffered Consequences" 4299
Click on any hostname to see more info about the system (e.g. compilers)      (*) as reported by 'uname -p', except on Windows and Mac OS X

CHECK results for bioCancer on merida1


To the developers/maintainers of the bioCancer package:
- Please allow up to 24 hours (and sometimes 48 hours) for your latest push to git@git.bioconductor.org:packages/bioCancer.git to
reflect on this report. See How and When does the builder pull? When will my changes propagate? for more information.
- Make sure to use the following settings in order to reproduce any error or warning you see on this page.

raw results

Package 169/2195HostnameOS / ArchINSTALLBUILDCHECKBUILD BIN
bioCancer 1.27.0  (landing page)
Karim Mezhoud
Snapshot Date: 2023-03-23 14:00:15 -0400 (Thu, 23 Mar 2023)
git_url: https://git.bioconductor.org/packages/bioCancer
git_branch: devel
git_last_commit: 2871292
git_last_commit_date: 2022-11-01 11:13:47 -0400 (Tue, 01 Nov 2022)
nebbiolo1Linux (Ubuntu 22.04.1 LTS) / x86_64  OK    OK    OK  UNNEEDED, same version is already published
palomino3Windows Server 2022 Datacenter / x64  OK    OK    OK    OK  UNNEEDED, same version is already published
merida1macOS 10.14.6 Mojave / x86_64  OK    OK    OK    OK  UNNEEDED, same version is already published

Summary

Package: bioCancer
Version: 1.27.0
Command: /Library/Frameworks/R.framework/Resources/bin/R CMD check --install=check:bioCancer.install-out.txt --library=/Library/Frameworks/R.framework/Resources/library --no-vignettes --timings bioCancer_1.27.0.tar.gz
StartedAt: 2023-03-23 22:50:58 -0400 (Thu, 23 Mar 2023)
EndedAt: 2023-03-23 23:00:12 -0400 (Thu, 23 Mar 2023)
EllapsedTime: 553.8 seconds
RetCode: 0
Status:   OK  
CheckDir: bioCancer.Rcheck
Warnings: 0

Command output

##############################################################################
##############################################################################
###
### Running command:
###
###   /Library/Frameworks/R.framework/Resources/bin/R CMD check --install=check:bioCancer.install-out.txt --library=/Library/Frameworks/R.framework/Resources/library --no-vignettes --timings bioCancer_1.27.0.tar.gz
###
##############################################################################
##############################################################################


* using log directory ‘/Users/biocbuild/bbs-3.17-bioc/meat/bioCancer.Rcheck’
* using R Under development (unstable) (2023-03-16 r83985)
* using platform: x86_64-apple-darwin17.0 (64-bit)
* R was compiled by
    Apple clang version 12.0.0 (clang-1200.0.32.29)
    GNU Fortran (GCC) 8.2.0
* running under: macOS Mojave 10.14.6
* using session charset: UTF-8
* using option ‘--no-vignettes’
* checking for file ‘bioCancer/DESCRIPTION’ ... OK
* this is package ‘bioCancer’ version ‘1.27.0’
* package encoding: UTF-8
* checking package namespace information ... OK
* checking package dependencies ... OK
* checking if this is a source package ... OK
* checking if there is a namespace ... OK
* checking for hidden files and directories ... OK
* checking for portable file names ... OK
* checking for sufficient/correct file permissions ... OK
* checking whether package ‘bioCancer’ can be installed ... OK
* checking installed package size ... NOTE
  installed size is  5.6Mb
  sub-directories of 1Mb or more:
    app       3.3Mb
    extdata   1.6Mb
* checking package directory ... OK
* checking ‘build’ directory ... OK
* checking DESCRIPTION meta-information ... OK
* checking top-level files ... OK
* checking for left-over files ... OK
* checking index information ... OK
* checking package subdirectories ... NOTE
Problems with news in ‘NEWS’:
  Cannot process chunk/lines:
    metamorphosis: bioCancer is a radiant.data extension
  Cannot process chunk/lines:
    reduce size of package by half 14 -> 7 mb
  Cannot process chunk/lines:
    improve Reactome_ui functions
  Cannot process chunk/lines:
    add switch button to ui_circomics
  Cannot process chunk/lines:
    improve circomics functions
  Cannot process chunk/lines:
    delete commented files and figures
  Cannot process chunk/lines:
    cleanup ui_radiant, /Rbis, /quant, /bioCancer
  Cannot process chunk/lines:
    switchButton
  Cannot process chunk/lines:
    data.row.names(row.names, rowsi, i) :
  Cannot process chunk/lines:
    some row.names duplicated: 11,12,13,14 --> row.names NOT used
  Cannot process chunk/lines:
    dplyr::mutate_each() is deprecated
  Cannot process chunk/lines:
    dply::summarise_each() is deprecated
  Cannot process chunk/lines:
    replace BiocStyle by prettydoc
  Cannot process chunk/lines:
    Warning in formals(fun) : argument is not a function
  Cannot process chunk/lines:
    Warning in body(fun) : argument is not a function
  Cannot process chunk/lines:
    Fix setting plot size
  Cannot process chunk/lines:
    Change the color rang of Circular layout plot as in standards
  Cannot process chunk/lines:
    update Correlation Methods
  Cannot process chunk/lines:
    replace .libPath() by path.package('bioCancer') in portal.R file
* checking R files for non-ASCII characters ... OK
* checking R files for syntax errors ... OK
* checking whether the package can be loaded ... OK
* checking whether the package can be loaded with stated dependencies ... OK
* checking whether the package can be unloaded cleanly ... OK
* checking whether the namespace can be loaded with stated dependencies ... OK
* checking whether the namespace can be unloaded cleanly ... OK
* checking dependencies in R code ... NOTE
Namespaces in Imports field not imported from:
  ‘AlgDesign’ ‘GO.db’ ‘R.methodsS3’ ‘import’ ‘methods’ ‘org.Bt.eg.db’
  ‘shinythemes’
  All declared Imports should be used.
* checking S3 generic/method consistency ... OK
* checking replacement functions ... OK
* checking foreign function calls ... OK
* checking R code for possible problems ... NOTE
getGenesClassification: no visible global function definition for ‘new’
Undefined global functions or variables:
  new
Consider adding
  importFrom("methods", "new")
to your NAMESPACE file (and ensure that your DESCRIPTION Imports field
contains 'methods').
* checking Rd files ... OK
* checking Rd metadata ... OK
* checking Rd cross-references ... OK
* checking for missing documentation entries ... OK
* checking for code/documentation mismatches ... OK
* checking Rd \usage sections ... OK
* checking Rd contents ... OK
* checking for unstated dependencies in examples ... OK
* checking contents of ‘data’ directory ... OK
* checking data for non-ASCII characters ... OK
* checking LazyData ... OK
* checking data for ASCII and uncompressed saves ... OK
* checking files in ‘vignettes’ ... OK
* checking examples ... OK
Examples with CPU (user + system) or elapsed time > 5s
                      user system elapsed
getCancerStudies.CGDS 0.09   0.02   6.468
* checking for unstated dependencies in ‘tests’ ... OK
* checking tests ...
  Running ‘testthat.R’
 OK
* checking for unstated dependencies in vignettes ... OK
* checking package vignettes in ‘inst/doc’ ... OK
* checking running R code from vignettes ... SKIPPED
* checking re-building of vignette outputs ... SKIPPED
* checking PDF version of manual ... OK
* DONE

Status: 4 NOTEs
See
  ‘/Users/biocbuild/bbs-3.17-bioc/meat/bioCancer.Rcheck/00check.log’
for details.



Installation output

bioCancer.Rcheck/00install.out

##############################################################################
##############################################################################
###
### Running command:
###
###   /Library/Frameworks/R.framework/Resources/bin/R CMD INSTALL bioCancer
###
##############################################################################
##############################################################################


* installing to library ‘/Library/Frameworks/R.framework/Versions/4.3/Resources/library’
* installing *source* package ‘bioCancer’ ...
** using staged installation
** R
** data
*** moving datasets to lazyload DB
** inst
** byte-compile and prepare package for lazy loading
** help
*** installing help indices
** building package indices
** installing vignettes
** testing if installed package can be loaded from temporary location
** testing if installed package can be loaded from final location
** testing if installed package keeps a record of temporary installation path
* DONE (bioCancer)

Tests output

bioCancer.Rcheck/tests/testthat.Rout


R Under development (unstable) (2023-03-16 r83985) -- "Unsuffered Consequences"
Copyright (C) 2023 The R Foundation for Statistical Computing
Platform: x86_64-apple-darwin17.0 (64-bit)

R is free software and comes with ABSOLUTELY NO WARRANTY.
You are welcome to redistribute it under certain conditions.
Type 'license()' or 'licence()' for distribution details.

R is a collaborative project with many contributors.
Type 'contributors()' for more information and
'citation()' on how to cite R or R packages in publications.

Type 'demo()' for some demos, 'help()' for on-line help, or
'help.start()' for an HTML browser interface to help.
Type 'q()' to quit R.

> library(testthat)
> library(bioCancer)
Loading required package: radiant.data
Loading required package: magrittr

Attaching package: 'magrittr'

The following objects are masked from 'package:testthat':

    equals, is_less_than, not

Loading required package: ggplot2
Loading required package: lubridate

Attaching package: 'lubridate'

The following objects are masked from 'package:base':

    date, intersect, setdiff, union

Loading required package: tidyr

Attaching package: 'tidyr'

The following object is masked from 'package:magrittr':

    extract

The following object is masked from 'package:testthat':

    matches

Loading required package: dplyr

Attaching package: 'dplyr'

The following object is masked from 'package:testthat':

    matches

The following objects are masked from 'package:stats':

    filter, lag

The following objects are masked from 'package:base':

    intersect, setdiff, setequal, union


Attaching package: 'radiant.data'

The following objects are masked from 'package:lubridate':

    month, wday

The following object is masked from 'package:ggplot2':

    diamonds

The following object is masked from 'package:magrittr':

    set_attr

The following object is masked from 'package:testthat':

    describe

The following object is masked from 'package:base':

    date

Loading required package: XML


> 
> test_check("bioCancer")
getCancerStudies...  OK
getCaseLists (1/2) ...  OK
getCaseLists (2/2) ...  OK
getGeneticProfiles (1/2) ...  OK
getGeneticProfiles (2/2) ...  OK
getClinicalData (1/1) ...  OK
getProfileData (1/6) ...  OK
getProfileData (2/6) ...  OK
getProfileData (3/6) ...  OK
getProfileData (4/6) ...  OK
getProfileData (5/6) ...  OK
getProfileData (6/6) ...  OK
ReactomeFI connection...  OK
[ FAIL 0 | WARN 0 | SKIP 2 | PASS 0 ]

══ Skipped tests ═══════════════════════════════════════════════════════════════
• empty test (2)

[ FAIL 0 | WARN 0 | SKIP 2 | PASS 0 ]
> 
> proc.time()
   user  system elapsed 
 19.421   0.998  37.130 

Example timings

bioCancer.Rcheck/bioCancer-Ex.timings

nameusersystemelapsed
AnnotationFuncs-package0.6980.0371.026
Edges_Diseases_obj0.0040.0010.007
Mutation_obj000
Node_Diseases_obj0.0040.0000.007
Node_df_FreqIn0.0010.0000.001
Node_obj_CNA_ProfData0.0000.0010.000
Node_obj_FreqIn0.0000.0000.001
Node_obj_Met_ProfData0.0000.0000.001
Node_obj_mRNA_Classifier0.0020.0010.002
Studies_obj0.0110.0010.015
UnifyRowNames000
attriColorGene0.0000.0010.001
attriColorValue000
attriColorVector000
attriShape2Gene000
attriShape2Node0.0010.0010.000
bioCancer0.0010.0000.001
checkDimensions0.0000.0010.000
coffeewheel000
coffeewheelOutput000
displayTable000
findPhantom0.0000.0000.001
getCancerStudies.CGDS0.0900.0206.468
getCaseLists.CGDS0.0320.0030.082
getClinicalData.CGDS0.0330.0030.083
getEvidenceCodes0.0010.0000.000
getFreqMutData000
getGenesClassification000
getGeneticProfiles.CGDS0.0640.0060.165
getListProfData000
getList_Cases000
getList_GenProfs000
getMegaProfData0.0000.0010.000
getMutationData.CGDS0.0180.0020.340
getOrthologs0.0000.0010.000
getProfileData.CGDS0.0800.0080.211
getSequensed_SampleSize0.0000.0010.001
grepRef000
mapLists0.0010.0010.001
metabologram0.0000.0000.001
metabologramOutput000
pickGO0.2420.0200.303
pickRefSeq0.2950.0130.447
reStrColorGene0.0010.0000.000
reStrDimension000
reStrDisease000
removeNAs0.0010.0000.000
renderCoffeewheel0.0010.0000.000
renderMetabologram000
returnTextAreaInput0.0010.0000.000
setVerbose.CGDS0.0020.0000.002
translate0.3490.0130.568
whichGeneList0.0010.0000.000
widgetThumbnail0.0000.0010.001