Index of /checkResults/devel/bioc-LATEST/bgx/raw-results
Name
Last modified
Size
Description
Parent Directory
-
info.dcf
02-May-2024 00:37
251
merida1/
02-May-2024 00:39
-
nebbiolo2/
02-May-2024 00:38
-
palomino4/
02-May-2024 00:38
-