Index of /checkResults/devel/bioc-LATEST/benchdamic/raw-results/merida1
Name
Last modified
Size
Description
Parent Directory
-
install-out.txt
21-May-2024 00:37
1.4K
install-summary.dcf
21-May-2024 00:37
276
buildsrc-out.txt
21-May-2024 00:37
662
buildsrc-summary.dcf
21-May-2024 00:37
356