Name | Last modified | Size | Description | |
---|---|---|---|---|
Parent Directory | - | |||
install-summary.dcf | 07-Jul-2024 00:44 | 240 | ||
install-out.txt | 07-Jul-2024 00:44 | 945 | ||
checksrc-summary.dcf | 09-Jul-2024 00:44 | 391 | ||
checksrc-out.txt | 09-Jul-2024 00:44 | 3.4K | ||
buildsrc-summary.dcf | 09-Jul-2024 00:44 | 395 | ||
buildsrc-out.txt | 09-Jul-2024 00:44 | 821 | ||