Back to Multiple platform build/check report for BioC 3.15
A[B]CDEFGHIJKLMNOPQRSTUVWXYZ

This page was generated on 2022-01-24 11:06:50 -0500 (Mon, 24 Jan 2022).

HostnameOSArch (*)R versionInstalled pkgs
nebbiolo1Linux (Ubuntu 20.04.4 LTS)x86_64R Under development (unstable) (2022-01-05 r81451) -- "Unsuffered Consequences" 4163
riesling1Windows Server 2019 Standardx64R Under development (unstable) (2021-11-21 r81221) -- "Unsuffered Consequences" 4058
palomino3Windows Server 2022 Datacenterx64R Under development (unstable) (2021-12-21 r81400 ucrt) -- "Unsuffered Consequences" 4000
merida1macOS 10.14.6 Mojavex86_64R Under development (unstable) (2022-01-05 r81451) -- "Unsuffered Consequences" 4117
Click on any hostname to see more info about the system (e.g. compilers)      (*) as reported by 'uname -p', except on Windows and Mac OS X

BUILD BIN results for baySeq on riesling1


To the developers/maintainers of the baySeq package:
- Please allow up to 24 hours (and sometimes 48 hours) for your latest push to git@git.bioconductor.org:packages/baySeq.git to
reflect on this report. See How and When does the builder pull? When will my changes propagate? here for more information.
- Make sure to use the following settings in order to reproduce any error or warning you see on this page.

raw results

Package 124/2075HostnameOS / ArchINSTALLBUILDCHECKBUILD BIN
baySeq 2.29.0  (landing page)
Thomas J. Hardcastle
Snapshot Date: 2022-01-23 13:55:15 -0500 (Sun, 23 Jan 2022)
git_url: https://git.bioconductor.org/packages/baySeq
git_branch: master
git_last_commit: f32f016
git_last_commit_date: 2021-10-26 11:54:47 -0500 (Tue, 26 Oct 2021)
nebbiolo1Linux (Ubuntu 20.04.4 LTS) / x86_64  OK    OK    OK  UNNEEDED, same version is already published
riesling1Windows Server 2019 Standard / x64  OK    OK    OK    OK  
palomino3Windows Server 2022 Datacenter / x64  OK    OK    OK    OK  NO, package depends on 'GenomicRanges' which is not available
merida1macOS 10.14.6 Mojave / x86_64  OK    OK    OK    OK  UNNEEDED, same version is already published

Summary

Package: baySeq
Version: 2.29.0
Command: rm -rf baySeq.buildbin-libdir && mkdir baySeq.buildbin-libdir && D:\biocbuild\bbs-3.15-bioc\R\bin\R.exe CMD INSTALL --build --library=baySeq.buildbin-libdir baySeq_2.29.0.tar.gz
StartedAt: 2022-01-23 20:42:52 -0500 (Sun, 23 Jan 2022)
EndedAt: 2022-01-23 20:44:03 -0500 (Sun, 23 Jan 2022)
EllapsedTime: 71.9 seconds
RetCode: 0
Status:   OK  
PackageFile: baySeq_2.29.0.zip
PackageFileSize: 1.591 MiB

Command output

##############################################################################
##############################################################################
###
### Running command:
###
###   rm -rf baySeq.buildbin-libdir && mkdir baySeq.buildbin-libdir && D:\biocbuild\bbs-3.15-bioc\R\bin\R.exe CMD INSTALL --build --library=baySeq.buildbin-libdir baySeq_2.29.0.tar.gz
###
##############################################################################
##############################################################################


* installing *source* package 'baySeq' ...
** using staged installation
** R
** data
** inst
** byte-compile and prepare package for lazy loading
** help
*** installing help indices
  converting help for package 'baySeq'
    finding HTML links ... done
    CDPost                                  html  
    CDPriors                                html  
    allModels                               html  
    baySeq-classes                          html  
    baySeq-package                          html  
    bimodalSep                              html  
    densityFunction                         html  
    densityFunctions                        html  
    getLibsizes                             html  
    getLikelihoods                          html  
    getPosteriors                           html  
    getPriors                               html  
    getTPs                                  html  
    makeOrderings                           html  
    marginaliseEqual                        html  
    marginalisePairwise                     html  
    methObservables                         html  
    mobAnnotation                           html  
    mobData                                 html  
    pairData                                html  
    plotMA.CD                               html  
    plotNullPrior                           html  
    plotPosteriors                          html  
    plotPriors                              html  
    selectTop                               html  
    simData                                 html  
    summarisePosteriors                     html  
    topCounts                               html  
    zimData                                 html  
** building package indices
** installing vignettes
** testing if installed package can be loaded from temporary location
** testing if installed package can be loaded from final location
** testing if installed package keeps a record of temporary installation path
* MD5 sums
packaged installation of 'baySeq' as baySeq_2.29.0.zip
* DONE (baySeq)