Index of /checkResults/devel/bioc-LATEST/batchelor/raw-results

[ICO]NameLast modifiedSizeDescription

[DIR]Parent Directory  -  
[   ]info.dcf26-Jan-2022 01:10 287  
[DIR]merida1/26-Jan-2022 01:10 -  
[DIR]nebbiolo1/26-Jan-2022 01:05 -  
[DIR]palomino3/26-Jan-2022 01:08 -  
[DIR]riesling1/26-Jan-2022 01:06 -