Back to Multiple platform build/check report for BioC 3.15
A[B]CDEFGHIJKLMNOPQRSTUVWXYZ

This page was generated on 2022-01-15 11:07:04 -0500 (Sat, 15 Jan 2022).

HostnameOSArch (*)R versionInstalled pkgs
nebbiolo1Linux (Ubuntu 20.04.4 LTS)x86_64R Under development (unstable) (2022-01-05 r81451) -- "Unsuffered Consequences" 4160
riesling1Windows Server 2019 Standardx64R Under development (unstable) (2021-11-21 r81221) -- "Unsuffered Consequences" 4055
palomino3Windows Server 2022 Datacenterx64R Under development (unstable) (2021-12-21 r81400 ucrt) -- "Unsuffered Consequences" 3997
merida1macOS 10.14.6 Mojavex86_64R Under development (unstable) (2022-01-05 r81451) -- "Unsuffered Consequences" 4114
Click on any hostname to see more info about the system (e.g. compilers)      (*) as reported by 'uname -p', except on Windows and Mac OS X

BUILD results for bamsignals on riesling1


To the developers/maintainers of the bamsignals package:
- Please allow up to 24 hours (and sometimes 48 hours) for your latest push to git@git.bioconductor.org:packages/bamsignals.git to
reflect on this report. See How and When does the builder pull? When will my changes propagate? here for more information.
- Make sure to use the following settings in order to reproduce any error or warning you see on this page.

raw results

Package 108/2074HostnameOS / ArchINSTALLBUILDCHECKBUILD BIN
bamsignals 1.27.1  (landing page)
Johannes Helmuth
Snapshot Date: 2022-01-14 13:55:18 -0500 (Fri, 14 Jan 2022)
git_url: https://git.bioconductor.org/packages/bamsignals
git_branch: master
git_last_commit: c40c4b0
git_last_commit_date: 2021-11-17 00:32:19 -0500 (Wed, 17 Nov 2021)
nebbiolo1Linux (Ubuntu 20.04.4 LTS) / x86_64  OK    OK    OK  UNNEEDED, same version is already published
riesling1Windows Server 2019 Standard / x64  OK    OK    OK    OK  
palomino3Windows Server 2022 Datacenter / x64  OK    OK    OK    OK  NO, package depends on 'BiocGenerics' which is not available
merida1macOS 10.14.6 Mojave / x86_64  OK    OK    OK    OK  UNNEEDED, same version is already published

Summary

Package: bamsignals
Version: 1.27.1
Command: chmod a+r bamsignals -R && D:\biocbuild\bbs-3.15-bioc\R\bin\R.exe CMD build --keep-empty-dirs --no-resave-data bamsignals
StartedAt: 2022-01-14 16:22:42 -0500 (Fri, 14 Jan 2022)
EndedAt: 2022-01-14 16:23:18 -0500 (Fri, 14 Jan 2022)
EllapsedTime: 35.8 seconds
RetCode: 0
Status:   OK  
PackageFile: bamsignals_1.27.1.tar.gz
PackageFileSize: 2.677 MiB

Command output

##############################################################################
##############################################################################
###
### Running command:
###
###   chmod a+r bamsignals -R && D:\biocbuild\bbs-3.15-bioc\R\bin\R.exe CMD build --keep-empty-dirs --no-resave-data bamsignals
###
##############################################################################
##############################################################################


* checking for file 'bamsignals/DESCRIPTION' ... OK
* preparing 'bamsignals':
* checking DESCRIPTION meta-information ... OK
* cleaning src
* installing the package to build vignettes
* creating vignettes ... OK
* cleaning src
* checking for LF line-endings in source and make files and shell scripts
* checking for empty or unneeded directories
* building 'bamsignals_1.27.1.tar.gz'