Index of /checkResults/devel/bioc-LATEST/bamsignals/raw-results/palomino4

[ICO]NameLast modifiedSizeDescription

[DIR]Parent Directory  -  
[TXT]buildbin-out.txt25-Jun-2022 00:06 3.5K 
[   ]buildbin-summary.dcf25-Jun-2022 00:06 551  
[TXT]buildsrc-out.txt25-Jun-2022 00:06 886  
[   ]buildsrc-summary.dcf25-Jun-2022 00:06 464  
[TXT]checksrc-out.txt25-Jun-2022 00:06 4.3K 
[   ]checksrc-summary.dcf25-Jun-2022 00:06 462  
[TXT]install-out.txt25-Jun-2022 00:06 4.2K 
[   ]install-summary.dcf25-Jun-2022 00:06 655