![]() | Name | Last modified | Size | Description |
---|---|---|---|---|
![]() | Parent Directory | - | ||
![]() | install-out.txt | 14-Aug-2022 00:04 | 3.0K | |
![]() | install-summary.dcf | 14-Aug-2022 00:04 | 265 | |
![]() | buildsrc-out.txt | 14-Aug-2022 00:04 | 848 | |
![]() | buildsrc-summary.dcf | 14-Aug-2022 00:04 | 425 | |
![]() | checksrc-out.txt | 14-Aug-2022 00:04 | 4.2K | |
![]() | checksrc-summary.dcf | 14-Aug-2022 00:04 | 435 | |