Index of /checkResults/devel/bioc-LATEST/bamsignals/raw-results/nebbiolo2

[ICO]NameLast modifiedSizeDescription

[DIR]Parent Directory  -  
[TXT]buildsrc-out.txt01-Jul-2022 00:04 848  
[   ]buildsrc-summary.dcf01-Jul-2022 00:04 425  
[TXT]checksrc-out.txt01-Jul-2022 00:04 4.2K 
[   ]checksrc-summary.dcf01-Jul-2022 00:04 435  
[TXT]install-out.txt01-Jul-2022 00:04 3.0K 
[   ]install-summary.dcf01-Jul-2022 00:04 265