Name | Last modified | Size | Description | |
---|---|---|---|---|
Parent Directory | - | |||
buildbin-out.txt | 12-Jun-2024 04:41 | 6.4K | ||
checksrc-out.txt | 12-Jun-2024 04:41 | 4.6K | ||
install-out.txt | 12-Jun-2024 04:41 | 3.8K | ||
buildsrc-out.txt | 12-Jun-2024 04:41 | 858 | ||
buildbin-summary.dcf | 12-Jun-2024 04:41 | 548 | ||
checksrc-summary.dcf | 12-Jun-2024 04:41 | 456 | ||
buildsrc-summary.dcf | 12-Jun-2024 04:41 | 435 | ||
install-summary.dcf | 12-Jun-2024 04:41 | 275 | ||