Index of /checkResults/devel/bioc-LATEST/bamsignals/raw-results/merida1

[ICO]NameLast modifiedSizeDescription

[DIR]Parent Directory  -  
[TXT]buildbin-out.txt18-May-2024 00:38 6.4K 
[   ]buildbin-summary.dcf18-May-2024 00:38 548  
[TXT]buildsrc-out.txt18-May-2024 00:38 858  
[   ]buildsrc-summary.dcf18-May-2024 00:38 435  
[TXT]checksrc-out.txt18-May-2024 00:38 4.6K 
[   ]checksrc-summary.dcf18-May-2024 00:38 456  
[TXT]install-out.txt18-May-2024 00:38 3.8K 
[   ]install-summary.dcf18-May-2024 00:38 275