Index of /checkResults/devel/bioc-LATEST/bamsignals/raw-results/lconway

[ICO]NameLast modifiedSizeDescription

[DIR]Parent Directory  -  
[TXT]buildbin-out.txt07-Jul-2022 00:08 4.4K 
[   ]buildbin-summary.dcf07-Jul-2022 00:08 548  
[TXT]buildsrc-out.txt07-Jul-2022 00:08 858  
[   ]buildsrc-summary.dcf07-Jul-2022 00:08 436  
[TXT]checksrc-out.txt07-Jul-2022 00:08 4.3K 
[   ]checksrc-summary.dcf07-Jul-2022 00:08 456  
[TXT]install-out.txt07-Jul-2022 00:08 3.6K 
[   ]install-summary.dcf07-Jul-2022 00:08 275