Index of /checkResults/devel/bioc-LATEST/bamsignals/raw-results/kunpeng2

[ICO]NameLast modifiedSizeDescription

[DIR]Parent Directory  -  
[TXT]buildsrc-out.txt16-May-2024 02:46 859  
[   ]buildsrc-summary.dcf16-May-2024 02:46 437  
[TXT]checksrc-out.txt16-May-2024 02:46 4.5K 
[   ]checksrc-summary.dcf16-May-2024 02:46 463  
[TXT]install-out.txt16-May-2024 02:46 3.4K 
[   ]install-summary.dcf16-May-2024 02:46 276