Index of /checkResults/devel/bioc-LATEST/bamsignals/raw-results
Name
Last modified
Size
Description
Parent Directory
-
kunpeng2/
29-Mar-2024 00:40
-
lconway/
29-Mar-2024 00:38
-
palomino3/
29-Mar-2024 00:37
-
nebbiolo1/
29-Mar-2024 00:36
-
info.dcf
29-Mar-2024 00:34
286
merida1/
05-Mar-2024 01:38
-