Index of /checkResults/devel/bioc-LATEST/bambu/raw-results/palomino4

[ICO]NameLast modifiedSizeDescription

[DIR]Parent Directory  -  
[TXT]checksrc-out.txt19-May-2022 00:05 4.8K 
[   ]checksrc-summary.dcf19-May-2022 00:05 440  
[TXT]buildbin-out.txt19-May-2022 00:05 2.2K 
[   ]buildbin-summary.dcf19-May-2022 00:05 518  
[TXT]install-out.txt07-Aug-2022 00:05 2.9K 
[   ]install-summary.dcf07-Aug-2022 00:05 604  
[TXT]buildsrc-out.txt07-Aug-2022 00:05 6.5K 
[   ]buildsrc-summary.dcf07-Aug-2022 00:05 362