Name | Last modified | Size | Description | |
---|---|---|---|---|
Parent Directory | - | |||
buildsrc-out.txt | 01-Jun-2024 08:28 | 818 | ||
buildsrc-summary.dcf | 01-Jun-2024 08:28 | 414 | ||
checksrc-out.txt | 01-Jun-2024 08:28 | 3.2K | ||
checksrc-summary.dcf | 01-Jun-2024 08:28 | 402 | ||
install-out.txt | 01-Jun-2024 08:28 | 943 | ||
install-summary.dcf | 01-Jun-2024 08:28 | 253 | ||