Back to Multiple platform build/check report for BioC 3.14
[A]BCDEFGHIJKLMNOPQRSTUVWXYZ

This page was generated on 2021-10-23 14:06:18 -0400 (Sat, 23 Oct 2021).

BUILD results for autonomics on riesling1

To the developers/maintainers of the autonomics package:
- Please allow up to 24 hours (and sometimes 48 hours) for your latest push to git@git.bioconductor.org:packages/autonomics.git to
reflect on this report. See How and When does the builder pull? When will my changes propagate? here for more information.
- Make sure to use the following settings in order to reproduce any error or warning you see on this page.

raw results

Package 99/2083HostnameOS / ArchINSTALLBUILDCHECKBUILD BIN
autonomics 1.1.7  (landing page)
Aditya Bhagwat
Snapshot Date: 2021-10-22 14:50:11 -0400 (Fri, 22 Oct 2021)
git_url: https://git.bioconductor.org/packages/autonomics
git_branch: master
git_last_commit: 3bb339e
git_last_commit_date: 2021-06-04 06:39:40 -0400 (Fri, 04 Jun 2021)
nebbiolo2Linux (Ubuntu 20.04.2 LTS) / x86_64  OK    OK    WARNINGS  UNNEEDED, same version is already published
riesling1Windows Server 2019 Standard / x64  OK    OK    WARNINGS    OK  UNNEEDED, same version is already published
merida1macOS 10.14.6 Mojave / x86_64  OK    OK    WARNINGS    OK  UNNEEDED, same version is already published

Summary

Package: autonomics
Version: 1.1.7
Command: chmod a+r autonomics -R && D:\biocbuild\bbs-3.14-bioc\R\bin\R.exe CMD build --keep-empty-dirs --no-resave-data autonomics
StartedAt: 2021-10-22 19:31:11 -0400 (Fri, 22 Oct 2021)
EndedAt: 2021-10-22 19:35:52 -0400 (Fri, 22 Oct 2021)
EllapsedTime: 281.0 seconds
RetCode: 0
Status:   OK  
PackageFile: autonomics_1.1.7.tar.gz
PackageFileSize: 1.214 MiB

Command output

##############################################################################
##############################################################################
###
### Running command:
###
###   chmod a+r autonomics -R && D:\biocbuild\bbs-3.14-bioc\R\bin\R.exe CMD build --keep-empty-dirs --no-resave-data autonomics
###
##############################################################################
##############################################################################


* checking for file 'autonomics/DESCRIPTION' ... OK
* preparing 'autonomics':
* checking DESCRIPTION meta-information ... OK
* installing the package to build vignettes
* creating vignettes ... OK
* checking for LF line-endings in source and make files and shell scripts
* checking for empty or unneeded directories
Omitted 'LazyData' from DESCRIPTION
* building 'autonomics_1.1.7.tar.gz'