Name | Last modified | Size | Description | |
---|---|---|---|---|
Parent Directory | - | |||
buildbin-out.txt | 02-Feb-2024 02:52 | 1.1K | ||
buildbin-summary.dcf | 02-Feb-2024 02:52 | 536 | ||
buildsrc-out.txt | 29-Mar-2024 00:37 | 1.9K | ||
buildsrc-summary.dcf | 29-Mar-2024 00:37 | 379 | ||
checksrc-out.txt | 02-Feb-2024 02:52 | 7.9K | ||
checksrc-summary.dcf | 02-Feb-2024 02:52 | 465 | ||
install-out.txt | 29-Mar-2024 00:37 | 971 | ||
install-summary.dcf | 29-Mar-2024 00:37 | 275 | ||