Index of /checkResults/devel/bioc-LATEST/autonomics/raw-results/nebbiolo1
Name
Last modified
Size
Description
Parent Directory
-
buildsrc-out.txt
29-Mar-2024 00:36
1.9K
buildsrc-summary.dcf
29-Mar-2024 00:36
340
install-out.txt
29-Mar-2024 00:36
961
install-summary.dcf
29-Mar-2024 00:36
266