Back to Multiple platform build/check report for BioC 3.19: simplified long |
|
This page was generated on 2023-12-12 12:22:11 -0500 (Tue, 12 Dec 2023).
Hostname | OS | Arch (*) | R version | Installed pkgs |
---|---|---|---|---|
nebbiolo1 | Linux (Ubuntu 22.04.2 LTS) | x86_64 | R Under development (unstable) (2023-11-11 r85510) -- "Unsuffered Consequences" | 4620 |
palomino3 | Windows Server 2022 Datacenter | x64 | R Under development (unstable) (2023-11-14 r85524 ucrt) -- "Unsuffered Consequences" | 4380 |
merida1 | macOS 12.7.1 Monterey | x86_64 | R Under development (unstable) (2023-11-11 r85510) -- "Unsuffered Consequences" | 4389 |
kunpeng2 | Linux (openEuler 22.03 LTS-SP1) | aarch64 | R Under development (unstable) (2023-11-01 r85459) -- "Unsuffered Consequences" | 4314 |
Click on any hostname to see more info about the system (e.g. compilers) (*) as reported by 'uname -p', except on Windows and Mac OS X |
Package 112/2230 | Hostname | OS / Arch | INSTALL | BUILD | CHECK | BUILD BIN | ||||||||
autonomics 1.11.5 (landing page) Aditya Bhagwat
| nebbiolo1 | Linux (Ubuntu 22.04.2 LTS) / x86_64 | OK | ERROR | skipped | |||||||||
palomino3 | Windows Server 2022 Datacenter / x64 | OK | OK | OK | OK | |||||||||
merida1 | macOS 12.7.1 Monterey / x86_64 | OK | OK | OK | OK | |||||||||
kunpeng2 | Linux (openEuler 22.03 LTS-SP1) / aarch64 | OK | ERROR | skipped | ||||||||||
To the developers/maintainers of the autonomics package: - Allow up to 24 hours (and sometimes 48 hours) for your latest push to git@git.bioconductor.org:packages/autonomics.git to reflect on this report. See Troubleshooting Build Report for more information. - Use the following Renviron settings to reproduce errors and warnings. - If 'R CMD check' started to fail recently on the Linux builder(s) over a missing dependency, add the missing dependency to 'Suggests:' in your DESCRIPTION file. See Renviron.bioc for more information. |
Package: autonomics |
Version: 1.11.5 |
Command: /Library/Frameworks/R.framework/Resources/bin/R CMD check --install=check:autonomics.install-out.txt --library=/Library/Frameworks/R.framework/Resources/library --no-vignettes --timings autonomics_1.11.5.tar.gz |
StartedAt: 2023-12-11 23:34:02 -0500 (Mon, 11 Dec 2023) |
EndedAt: 2023-12-11 23:55:07 -0500 (Mon, 11 Dec 2023) |
EllapsedTime: 1264.3 seconds |
RetCode: 0 |
Status: OK |
CheckDir: autonomics.Rcheck |
Warnings: 0 |
############################################################################## ############################################################################## ### ### Running command: ### ### /Library/Frameworks/R.framework/Resources/bin/R CMD check --install=check:autonomics.install-out.txt --library=/Library/Frameworks/R.framework/Resources/library --no-vignettes --timings autonomics_1.11.5.tar.gz ### ############################################################################## ############################################################################## * using log directory ‘/Users/biocbuild/bbs-3.19-bioc/meat/autonomics.Rcheck’ * using R Under development (unstable) (2023-11-11 r85510) * using platform: x86_64-apple-darwin20 * R was compiled by Apple clang version 14.0.3 (clang-1403.0.22.14.1) GNU Fortran (GCC) 12.2.0 * running under: macOS Monterey 12.7.1 * using session charset: UTF-8 * using option ‘--no-vignettes’ * checking for file ‘autonomics/DESCRIPTION’ ... OK * checking extension type ... Package * this is package ‘autonomics’ version ‘1.11.5’ * package encoding: UTF-8 * checking package namespace information ... OK * checking package dependencies ... OK * checking if this is a source package ... OK * checking if there is a namespace ... OK * checking for hidden files and directories ... NOTE Found the following hidden files and directories: .BBSoptions These were most likely included in error. See section ‘Package structure’ in the ‘Writing R Extensions’ manual. * checking for portable file names ... OK * checking for sufficient/correct file permissions ... OK * checking whether package ‘autonomics’ can be installed ... OK * checking installed package size ... OK * checking package directory ... OK * checking ‘build’ directory ... OK * checking DESCRIPTION meta-information ... OK * checking top-level files ... OK * checking for left-over files ... OK * checking index information ... OK * checking package subdirectories ... OK * checking R files for non-ASCII characters ... OK * checking R files for syntax errors ... OK * checking whether the package can be loaded ... OK * checking whether the package can be loaded with stated dependencies ... OK * checking whether the package can be unloaded cleanly ... OK * checking whether the namespace can be loaded with stated dependencies ... OK * checking whether the namespace can be unloaded cleanly ... OK * checking dependencies in R code ... OK * checking S3 generic/method consistency ... OK * checking replacement functions ... OK * checking foreign function calls ... OK * checking R code for possible problems ... OK * checking Rd files ... OK * checking Rd metadata ... OK * checking Rd cross-references ... OK * checking for missing documentation entries ... OK * checking for code/documentation mismatches ... OK * checking Rd \usage sections ... OK * checking Rd contents ... OK * checking for unstated dependencies in examples ... OK * checking files in ‘vignettes’ ... OK * checking examples ... OK Examples with CPU (user + system) or elapsed time > 5s user system elapsed read_rnaseq_counts 29.690 1.294 32.869 is_sig 30.087 0.213 31.384 filter_medoid 26.603 0.796 28.287 pca 22.855 0.691 25.198 explore_imputations 20.481 0.417 21.330 fit_limma 20.661 0.195 21.531 read_somascan 20.096 0.455 21.925 plot_detections 17.926 0.644 20.783 biplot_covariates 16.454 0.540 18.480 read_metabolon 15.621 0.579 17.688 read_rectangles 13.197 0.677 14.380 plot_venn 12.664 0.230 13.980 summarize_fit 12.367 0.446 13.625 plot_features 12.305 0.328 13.397 plot_boxplots 10.841 0.413 12.616 analyze 10.695 0.511 12.218 subtract_baseline 10.349 0.459 11.005 plot_violins 10.218 0.404 11.516 explore_transformations 10.315 0.243 10.731 read_proteingroups 9.471 0.201 10.260 log2transform 9.397 0.208 10.137 biplot_corrections 8.550 0.500 9.766 sumexp_to_long_dt 8.373 0.668 9.376 biplot 8.285 0.421 10.041 plot_densities 5.113 0.500 6.519 plot_volcano 5.132 0.135 5.658 impute_systematic_nondetects 5.027 0.145 5.278 center 4.633 0.163 12.528 add_smiles 4.083 0.399 5.139 * checking for unstated dependencies in ‘tests’ ... OK * checking tests ... Running ‘testthat.R’ OK * checking for unstated dependencies in vignettes ... OK * checking package vignettes in ‘inst/doc’ ... OK * checking running R code from vignettes ... SKIPPED * checking re-building of vignette outputs ... SKIPPED * checking PDF version of manual ... OK * DONE Status: 1 NOTE See ‘/Users/biocbuild/bbs-3.19-bioc/meat/autonomics.Rcheck/00check.log’ for details.
autonomics.Rcheck/00install.out
############################################################################## ############################################################################## ### ### Running command: ### ### /Library/Frameworks/R.framework/Resources/bin/R CMD INSTALL autonomics ### ############################################################################## ############################################################################## * installing to library ‘/Library/Frameworks/R.framework/Versions/4.4-x86_64/Resources/library’ * installing *source* package ‘autonomics’ ... ** using staged installation ** R ** inst ** byte-compile and prepare package for lazy loading Note: wrong number of arguments to '/' ** help *** installing help indices ** building package indices ** installing vignettes ** testing if installed package can be loaded from temporary location ** testing if installed package can be loaded from final location ** testing if installed package keeps a record of temporary installation path * DONE (autonomics)
autonomics.Rcheck/tests/testthat.Rout
R Under development (unstable) (2023-11-11 r85510) -- "Unsuffered Consequences" Copyright (C) 2023 The R Foundation for Statistical Computing Platform: x86_64-apple-darwin20 R is free software and comes with ABSOLUTELY NO WARRANTY. You are welcome to redistribute it under certain conditions. Type 'license()' or 'licence()' for distribution details. R is a collaborative project with many contributors. Type 'contributors()' for more information and 'citation()' on how to cite R or R packages in publications. Type 'demo()' for some demos, 'help()' for on-line help, or 'help.start()' for an HTML browser interface to help. Type 'q()' to quit R. > library(testthat) > library(autonomics) Attaching package: 'autonomics' The following object is masked from 'package:stats': biplot > > test_check("autonomics") [ FAIL 0 | WARN 0 | SKIP 0 | PASS 102 ] > > proc.time() user system elapsed 236.612 8.133 262.653
autonomics.Rcheck/autonomics-Ex.timings
name | user | system | elapsed | |
AUTONOMICS_DATASETS | 0.001 | 0.001 | 0.002 | |
MAXQUANT_PATTERNS_PEPCOUNTS | 0.000 | 0.001 | 0.001 | |
MAXQUANT_PATTERNS_QUANTITY | 0.001 | 0.001 | 0.002 | |
TESTS | 0.000 | 0.000 | 0.001 | |
add_smiles | 4.083 | 0.399 | 5.139 | |
analysis | 2.743 | 0.099 | 3.010 | |
analyze | 10.695 | 0.511 | 12.218 | |
assert_is_valid_sumexp | 1.518 | 0.221 | 1.921 | |
biplot | 8.285 | 0.421 | 10.041 | |
biplot_corrections | 8.550 | 0.500 | 9.766 | |
biplot_covariates | 16.454 | 0.540 | 18.480 | |
center | 4.633 | 0.163 | 12.528 | |
contrast_subgroup_cols | 2.470 | 0.233 | 3.087 | |
contrastdefs | 4.083 | 0.096 | 4.334 | |
counts | 2.782 | 0.135 | 3.041 | |
counts2cpm | 3.121 | 0.137 | 3.284 | |
counts2tpm | 1.175 | 0.054 | 1.256 | |
cpm | 2.505 | 0.123 | 2.649 | |
create_design | 4.205 | 0.154 | 4.392 | |
create_sfile | 3.448 | 0.122 | 3.614 | |
default_formula | 1.619 | 0.430 | 2.112 | |
default_sfile | 0.309 | 0.023 | 0.346 | |
download_data | 2.644 | 0.381 | 3.224 | |
download_gtf | 0.000 | 0.001 | 0.001 | |
dt2mat | 0.005 | 0.001 | 0.006 | |
explore_imputations | 20.481 | 0.417 | 21.330 | |
explore_transformations | 10.315 | 0.243 | 10.731 | |
extract_features | 2.066 | 0.081 | 2.161 | |
extract_rectangle | 1.483 | 0.279 | 1.789 | |
fdata | 2.134 | 0.076 | 2.214 | |
filter_exprs_replicated_in_some_subgroup | 3.028 | 0.404 | 3.526 | |
filter_features | 1.953 | 0.420 | 2.426 | |
filter_medoid | 26.603 | 0.796 | 28.287 | |
filter_replicated | 2.607 | 0.100 | 2.873 | |
filter_samples | 1.876 | 0.319 | 2.295 | |
fit_limma | 20.661 | 0.195 | 21.531 | |
flevels | 1.967 | 0.070 | 2.157 | |
fnames | 2.070 | 0.081 | 2.337 | |
formula2str | 0.000 | 0.000 | 0.001 | |
fvalues | 2.017 | 0.088 | 2.196 | |
fvars | 2.053 | 0.081 | 2.226 | |
guess_maxquant_quantity | 3.567 | 0.156 | 3.914 | |
guess_sep | 0.002 | 0.001 | 0.003 | |
halfnormimpute | 2.190 | 0.078 | 2.388 | |
impute_systematic_nondetects | 5.027 | 0.145 | 5.278 | |
invert | 3.085 | 0.105 | 3.219 | |
is_imputed | 1.996 | 0.078 | 2.133 | |
is_sig | 30.087 | 0.213 | 31.384 | |
limma | 4.105 | 0.098 | 4.273 | |
log2counts | 2.402 | 0.078 | 2.610 | |
log2countsratios | 2.400 | 0.078 | 2.583 | |
log2cpm | 2.447 | 0.157 | 2.663 | |
log2cpmratios | 2.362 | 0.133 | 2.512 | |
log2tpm | 2.420 | 0.090 | 2.645 | |
log2tpmratios | 2.464 | 0.144 | 2.735 | |
log2transform | 9.397 | 0.208 | 10.137 | |
make_volcano_dt | 3.985 | 0.122 | 4.217 | |
matrix2sumexp | 3.013 | 0.392 | 3.793 | |
merge_sdata | 1.599 | 0.273 | 2.256 | |
merge_sfile | 2.936 | 0.281 | 4.073 | |
message_df | 0.004 | 0.002 | 0.008 | |
occupancies | 2.646 | 0.133 | 3.250 | |
pca | 22.855 | 0.691 | 25.198 | |
plot_boxplots | 10.841 | 0.413 | 12.616 | |
plot_contrastogram | 2.633 | 0.319 | 3.487 | |
plot_data | 3.659 | 0.314 | 4.875 | |
plot_densities | 5.113 | 0.500 | 6.519 | |
plot_detections | 17.926 | 0.644 | 20.783 | |
plot_features | 12.305 | 0.328 | 13.397 | |
plot_venn | 12.664 | 0.230 | 13.980 | |
plot_violins | 10.218 | 0.404 | 11.516 | |
plot_volcano | 5.132 | 0.135 | 5.658 | |
preprocess_rnaseq_counts | 3.707 | 0.162 | 4.096 | |
proteingroups | 2.682 | 0.146 | 3.058 | |
read_affymetrix | 1.871 | 0.172 | 2.189 | |
read_metabolon | 15.621 | 0.579 | 17.688 | |
read_proteingroups | 9.471 | 0.201 | 10.260 | |
read_rectangles | 13.197 | 0.677 | 14.380 | |
read_rnaseq_counts | 29.690 | 1.294 | 32.869 | |
read_somascan | 20.096 | 0.455 | 21.925 | |
rm_singleton_samples | 1.652 | 0.057 | 1.822 | |
scaledlibsizes | 2.159 | 0.091 | 2.299 | |
sdata | 2.949 | 0.144 | 3.323 | |
slevels | 1.940 | 0.098 | 2.130 | |
snames | 2.050 | 0.146 | 2.213 | |
split_by_svar | 1.687 | 0.084 | 1.790 | |
split_extract | 1.450 | 0.254 | 1.728 | |
standardize_maxquant_snames | 0.004 | 0.002 | 0.006 | |
subgroup_matrix | 1.444 | 0.231 | 1.710 | |
subtract_baseline | 10.349 | 0.459 | 11.005 | |
sumexp2mae | 3.876 | 0.429 | 4.416 | |
sumexp_to_long_dt | 8.373 | 0.668 | 9.376 | |
summarize_fit | 12.367 | 0.446 | 13.625 | |
svalues | 2.025 | 0.116 | 2.305 | |
svars | 2.008 | 0.090 | 2.251 | |
tpm | 2.560 | 0.109 | 2.852 | |
values | 2.020 | 0.077 | 2.178 | |
venn_detects | 2.936 | 0.195 | 3.402 | |
weights | 3.237 | 0.191 | 3.554 | |
zero_to_na | 0.024 | 0.003 | 0.027 | |