Back to Multiple platform build/check report for BioC 3.15
[A]BCDEFGHIJKLMNOPQRSTUVWXYZ

This page was generated on 2022-01-26 11:07:07 -0500 (Wed, 26 Jan 2022).

HostnameOSArch (*)R versionInstalled pkgs
nebbiolo1Linux (Ubuntu 20.04.4 LTS)x86_64R Under development (unstable) (2022-01-05 r81451) -- "Unsuffered Consequences" 4164
riesling1Windows Server 2019 Standardx64R Under development (unstable) (2021-11-21 r81221) -- "Unsuffered Consequences" 4059
palomino3Windows Server 2022 Datacenterx64R Under development (unstable) (2021-12-21 r81400 ucrt) -- "Unsuffered Consequences" 4001
merida1macOS 10.14.6 Mojavex86_64R Under development (unstable) (2022-01-05 r81451) -- "Unsuffered Consequences" 4118
Click on any hostname to see more info about the system (e.g. compilers)      (*) as reported by 'uname -p', except on Windows and Mac OS X

INSTALL results for attract on riesling1


To the developers/maintainers of the attract package:
- Please allow up to 24 hours (and sometimes 48 hours) for your latest push to git@git.bioconductor.org:packages/attract.git to
reflect on this report. See How and When does the builder pull? When will my changes propagate? here for more information.
- Make sure to use the following settings in order to reproduce any error or warning you see on this page.

raw results

Package 94/2075HostnameOS / ArchINSTALLBUILDCHECKBUILD BIN
attract 1.47.0  (landing page)
Samuel Zimmerman
Snapshot Date: 2022-01-25 13:55:17 -0500 (Tue, 25 Jan 2022)
git_url: https://git.bioconductor.org/packages/attract
git_branch: master
git_last_commit: b7601f8
git_last_commit_date: 2021-10-26 11:56:18 -0500 (Tue, 26 Oct 2021)
nebbiolo1Linux (Ubuntu 20.04.4 LTS) / x86_64  OK    OK    OK  UNNEEDED, same version is already published
riesling1Windows Server 2019 Standard / x64  OK    OK    OK    OK  
palomino3Windows Server 2022 Datacenter / x64  OK    OK    OK    OK  NO, package depends on 'AnnotationDbi' which is not available
merida1macOS 10.14.6 Mojave / x86_64  OK    OK    OK    OK  UNNEEDED, same version is already published

Summary

Package: attract
Version: 1.47.0
Command: D:\biocbuild\bbs-3.15-bioc\R\bin\R.exe CMD INSTALL attract
StartedAt: 2022-01-25 16:01:15 -0500 (Tue, 25 Jan 2022)
EndedAt: 2022-01-25 16:02:21 -0500 (Tue, 25 Jan 2022)
EllapsedTime: 65.9 seconds
RetCode: 0
Status:   OK  

Command output

##############################################################################
##############################################################################
###
### Running command:
###
###   D:\biocbuild\bbs-3.15-bioc\R\bin\R.exe CMD INSTALL attract
###
##############################################################################
##############################################################################


* installing to library 'D:/biocbuild/bbs-3.15-bioc/R/library'
* installing *source* package 'attract' ...
** using staged installation
** R
** data
** inst
** byte-compile and prepare package for lazy loading
** help
*** installing help indices
  converting help for package 'attract'
    finding HTML links ... done
    AttractorModuleSet-class                html  
    SynExpressionSet-class                  html  
    attract-package                         html  
    buildCorMatrix                          html  
    buildCustomIncidenceMatrix              html  
    buildKeggIncidenceMatrix                html  
    calcFuncSynexprs                        html  
    calcInform                              html  
    calcModfstat                            html  
    calcRss                                 html  
    exprs.dat                               html  
    filterDataSet                           html  
    findAttractors                          html  
    findCorrPartners                        html  
    findOnepwaySynexprs                     html  
    findSynexprs                            html  
    flagPwayExists                          html  
    getCustomGenes                          html  
    getPwayGenes                            html  
    loring.eset                             html  
    plotsynexprs                            html  
    removeFlatGenes                         html  
    samp.info                               html  
    subset.loring.eset                      html  
** building package indices
** installing vignettes
** testing if installed package can be loaded from temporary location
** testing if installed package can be loaded from final location
** testing if installed package keeps a record of temporary installation path
* DONE (attract)
Making 'packages.html' ... done