Back to Multiple platform build/check report for BioC 3.15
[A]BCDEFGHIJKLMNOPQRSTUVWXYZ

This page was generated on 2022-01-25 11:06:43 -0500 (Tue, 25 Jan 2022).

HostnameOSArch (*)R versionInstalled pkgs
nebbiolo1Linux (Ubuntu 20.04.4 LTS)x86_64R Under development (unstable) (2022-01-05 r81451) -- "Unsuffered Consequences" 4164
riesling1Windows Server 2019 Standardx64R Under development (unstable) (2021-11-21 r81221) -- "Unsuffered Consequences" 4059
palomino3Windows Server 2022 Datacenterx64R Under development (unstable) (2021-12-21 r81400 ucrt) -- "Unsuffered Consequences" 4001
merida1macOS 10.14.6 Mojavex86_64R Under development (unstable) (2022-01-05 r81451) -- "Unsuffered Consequences" 4118
Click on any hostname to see more info about the system (e.g. compilers)      (*) as reported by 'uname -p', except on Windows and Mac OS X

BUILD BIN results for atena on riesling1


To the developers/maintainers of the atena package:
- Please allow up to 24 hours (and sometimes 48 hours) for your latest push to git@git.bioconductor.org:packages/atena.git to
reflect on this report. See How and When does the builder pull? When will my changes propagate? here for more information.
- Make sure to use the following settings in order to reproduce any error or warning you see on this page.

raw results

Package 92/2075HostnameOS / ArchINSTALLBUILDCHECKBUILD BIN
atena 1.1.6  (landing page)
Beatriz Calvo-Serra
Snapshot Date: 2022-01-24 13:55:18 -0500 (Mon, 24 Jan 2022)
git_url: https://git.bioconductor.org/packages/atena
git_branch: master
git_last_commit: 39e3bde
git_last_commit_date: 2022-01-24 12:14:51 -0500 (Mon, 24 Jan 2022)
nebbiolo1Linux (Ubuntu 20.04.4 LTS) / x86_64  OK    OK    ERROR  
riesling1Windows Server 2019 Standard / x64  OK    OK    ERROR    OK  
palomino3Windows Server 2022 Datacenter / x64  OK    OK    ERROR    OK  
merida1macOS 10.14.6 Mojave / x86_64  OK    OK    ERROR    OK  

Summary

Package: atena
Version: 1.1.6
Command: rm -rf atena.buildbin-libdir && mkdir atena.buildbin-libdir && D:\biocbuild\bbs-3.15-bioc\R\bin\R.exe CMD INSTALL --build --library=atena.buildbin-libdir atena_1.1.6.tar.gz
StartedAt: 2022-01-24 20:40:06 -0500 (Mon, 24 Jan 2022)
EndedAt: 2022-01-24 20:41:14 -0500 (Mon, 24 Jan 2022)
EllapsedTime: 68.5 seconds
RetCode: 0
Status:   OK  
PackageFile: atena_1.1.6.zip
PackageFileSize: 1.375 MiB

Command output

##############################################################################
##############################################################################
###
### Running command:
###
###   rm -rf atena.buildbin-libdir && mkdir atena.buildbin-libdir && D:\biocbuild\bbs-3.15-bioc\R\bin\R.exe CMD INSTALL --build --library=atena.buildbin-libdir atena_1.1.6.tar.gz
###
##############################################################################
##############################################################################


* installing *source* package 'atena' ...
** using staged installation
** R
** inst
** byte-compile and prepare package for lazy loading
** help
*** installing help indices
  converting help for package 'atena'
    finding HTML links ... done
    AtenaParam-class                        html  
    finding level-2 HTML links ... done

    ERVmapParam-class                       html  
    TEtranscriptsParam-class                html  
    TelescopeParam-class                    html  
    atena-package                           html  
    ovFunctions                             html  
    qtex                                    html  
** building package indices
** installing vignettes
** testing if installed package can be loaded from temporary location
** testing if installed package can be loaded from final location
** testing if installed package keeps a record of temporary installation path
* MD5 sums
packaged installation of 'atena' as atena_1.1.6.zip
* DONE (atena)