Index of /checkResults/devel/bioc-LATEST/artMS/raw-results/palomino3

[ICO]NameLast modifiedSizeDescription

[DIR]Parent Directory  -  
[TXT]buildbin-out.txt02-Mar-2024 01:37 1.1K 
[   ]buildbin-summary.dcf02-Mar-2024 01:37 503  
[TXT]buildsrc-out.txt02-Mar-2024 01:37 829  
[   ]buildsrc-summary.dcf02-Mar-2024 01:37 444  
[TXT]checksrc-out.txt02-Mar-2024 01:37 3.4K 
[   ]checksrc-summary.dcf02-Mar-2024 01:37 439  
[TXT]install-out.txt02-Mar-2024 01:37 1.0K 
[   ]install-summary.dcf02-Mar-2024 01:37 264