Index of /checkResults/devel/bioc-LATEST/arrayQualityMetrics/raw-results
Name
Last modified
Size
Description
Parent Directory
-
info.dcf
29-Mar-2023 00:06
284
merida1/
29-Mar-2023 00:06
-
nebbiolo1/
29-Mar-2023 00:05
-
palomino3/
29-Mar-2023 00:05
-