Name | Last modified | Size | Description | |
---|---|---|---|---|
Parent Directory | - | |||
install-summary.dcf | 28-Jun-2024 00:38 | 278 | ||
install-out.txt | 28-Jun-2024 00:38 | 1.0K | ||
buildsrc-out.txt | 28-Jun-2024 00:38 | 827 | ||
buildsrc-summary.dcf | 28-Jun-2024 00:38 | 441 | ||
checksrc-out.txt | 28-Jun-2024 00:38 | 12K | ||
checksrc-summary.dcf | 28-Jun-2024 00:38 | 469 | ||
buildbin-summary.dcf | 28-Jun-2024 00:38 | 559 | ||
buildbin-out.txt | 28-Jun-2024 00:38 | 1.2K | ||