Name | Last modified | Size | Description | |
---|---|---|---|---|
Parent Directory | - | |||
buildbin-out.txt | 04-May-2024 00:38 | 1.5K | ||
buildbin-summary.dcf | 04-May-2024 00:38 | 547 | ||
buildsrc-out.txt | 04-May-2024 00:38 | 891 | ||
buildsrc-summary.dcf | 04-May-2024 00:38 | 437 | ||
checksrc-out.txt | 04-May-2024 00:38 | 4.4K | ||
checksrc-summary.dcf | 04-May-2024 00:38 | 456 | ||
install-out.txt | 04-May-2024 00:38 | 1.3K | ||
install-summary.dcf | 04-May-2024 00:38 | 276 | ||