Back to Multiple platform build/check report for BioC 3.19:   simplified   long
[A]BCDEFGHIJKLMNOPQRSTUVWXYZ

This page was generated on 2024-03-28 11:37:19 -0400 (Thu, 28 Mar 2024).

HostnameOSArch (*)R versionInstalled pkgs
nebbiolo1Linux (Ubuntu 22.04.3 LTS)x86_64R Under development (unstable) (2024-03-18 r86148) -- "Unsuffered Consequences" 4708
palomino3Windows Server 2022 Datacenterx64R Under development (unstable) (2024-03-16 r86144 ucrt) -- "Unsuffered Consequences" 4446
lconwaymacOS 12.7.1 Montereyx86_64R Under development (unstable) (2024-03-18 r86148) -- "Unsuffered Consequences" 4471
kunpeng2Linux (openEuler 22.03 LTS-SP1)aarch64R Under development (unstable) (2024-03-19 r86153) -- "Unsuffered Consequences" 4426
Click on any hostname to see more info about the system (e.g. compilers)      (*) as reported by 'uname -p', except on Windows and Mac OS X

Package 91/2270HostnameOS / ArchINSTALLBUILDCHECKBUILD BIN
arrayMvout 1.61.0  (landing page)
V. Carey
Snapshot Date: 2024-03-27 14:00:18 -0400 (Wed, 27 Mar 2024)
git_url: https://git.bioconductor.org/packages/arrayMvout
git_branch: devel
git_last_commit: 55e3a51
git_last_commit_date: 2023-10-24 09:40:59 -0400 (Tue, 24 Oct 2023)
nebbiolo1Linux (Ubuntu 22.04.3 LTS) / x86_64  OK    OK    OK  UNNEEDED, same version is already published
palomino3Windows Server 2022 Datacenter / x64  OK    OK    OK    OK  UNNEEDED, same version is already published
lconwaymacOS 12.7.1 Monterey / x86_64  OK    OK    OK    OK  UNNEEDED, same version is already published
kunpeng2Linux (openEuler 22.03 LTS-SP1) / aarch64  OK    OK    OK  

BUILD BIN results for arrayMvout on palomino3


To the developers/maintainers of the arrayMvout package:
- Allow up to 24 hours (and sometimes 48 hours) for your latest push to git@git.bioconductor.org:packages/arrayMvout.git to reflect on this report. See Troubleshooting Build Report for more information.
- Use the following Renviron settings to reproduce errors and warnings.
- If 'R CMD check' started to fail recently on the Linux builder(s) over a missing dependency, add the missing dependency to 'Suggests:' in your DESCRIPTION file. See Renviron.bioc for more information.

raw results


Summary

Package: arrayMvout
Version: 1.61.0
Command: rm -rf arrayMvout.buildbin-libdir && mkdir arrayMvout.buildbin-libdir && F:\biocbuild\bbs-3.19-bioc\R\bin\R.exe CMD INSTALL --build --library=arrayMvout.buildbin-libdir arrayMvout_1.61.0.tar.gz
StartedAt: 2024-03-28 08:19:45 -0400 (Thu, 28 Mar 2024)
EndedAt: 2024-03-28 08:20:45 -0400 (Thu, 28 Mar 2024)
EllapsedTime: 60.1 seconds
RetCode: 0
Status:   OK  
PackageFile: arrayMvout_1.61.0.zip
PackageFileSize: 755.1 KiB

Command output

##############################################################################
##############################################################################
###
### Running command:
###
###   rm -rf arrayMvout.buildbin-libdir && mkdir arrayMvout.buildbin-libdir && F:\biocbuild\bbs-3.19-bioc\R\bin\R.exe CMD INSTALL --build --library=arrayMvout.buildbin-libdir arrayMvout_1.61.0.tar.gz
###
##############################################################################
##############################################################################


* installing *source* package 'arrayMvout' ...
** using staged installation
** R
** data
** inst
** byte-compile and prepare package for lazy loading
No methods found in package 'RSQLite' for request: 'dbListFields' when loading 'lumi'
** help
*** installing help indices
** building package indices
** installing vignettes
** testing if installed package can be loaded from temporary location
No methods found in package 'RSQLite' for request: 'dbListFields' when loading 'lumi'
** testing if installed package can be loaded from final location
No methods found in package 'RSQLite' for request: 'dbListFields' when loading 'lumi'
** testing if installed package keeps a record of temporary installation path
* MD5 sums
packaged installation of 'arrayMvout' as arrayMvout_1.61.0.zip
* DONE (arrayMvout)