Index of /checkResults/devel/bioc-LATEST/apeglm/raw-results/palomino4

[ICO]NameLast modifiedSizeDescription

[DIR]Parent Directory  -  
[TXT]buildbin-out.txt02-Jul-2022 00:05 1.7M 
[   ]buildbin-summary.dcf02-Jul-2022 00:05 527  
[TXT]buildsrc-out.txt02-Jul-2022 00:05 903  
[   ]buildsrc-summary.dcf02-Jul-2022 00:05 449  
[TXT]checksrc-out.txt02-Jul-2022 00:05 3.7K 
[   ]checksrc-summary.dcf02-Jul-2022 00:05 446  
[TXT]install-out.txt02-Jul-2022 00:05 1.7M 
[   ]install-summary.dcf02-Jul-2022 00:05 619