Index of /checkResults/devel/bioc-LATEST/apeglm/raw-results

[ICO]NameLast modifiedSizeDescription

[DIR]Parent Directory  -  
[   ]info.dcf18-Aug-2022 00:07 259  
[DIR]palomino4/18-Aug-2022 00:06 -  
[DIR]nebbiolo2/18-Aug-2022 00:04 -  
[DIR]lconway/18-Aug-2022 00:07 -  
[DIR]kjohnson/12-Jul-2022 00:06 -