Index of /checkResults/devel/bioc-LATEST/anota/raw-results/nebbiolo2

[ICO]NameLast modifiedSizeDescription

[DIR]Parent Directory  -  
[   ]install-summary.dcf20-Aug-2022 01:10 255  
[TXT]install-out.txt20-Aug-2022 01:10 1.0K 
[   ]checksrc-summary.dcf20-Aug-2022 01:10 415  
[TXT]checksrc-out.txt20-Aug-2022 01:10 9.7K 
[   ]buildsrc-summary.dcf20-Aug-2022 01:10 411  
[TXT]buildsrc-out.txt20-Aug-2022 01:10 798