Index of /checkResults/devel/bioc-LATEST/anota/raw-results/nebbiolo2

[ICO]NameLast modifiedSizeDescription

[DIR]Parent Directory  -  
[TXT]buildsrc-out.txt05-Jul-2022 00:04 798  
[   ]buildsrc-summary.dcf05-Jul-2022 00:04 411  
[TXT]checksrc-out.txt05-Jul-2022 00:04 9.7K 
[   ]checksrc-summary.dcf05-Jul-2022 00:04 415  
[TXT]install-out.txt05-Jul-2022 00:04 1.0K 
[   ]install-summary.dcf05-Jul-2022 00:04 255