Index of /checkResults/devel/bioc-LATEST/anota/raw-results/lconway

[ICO]NameLast modifiedSizeDescription

[DIR]Parent Directory  -  
[TXT]buildbin-out.txt01-Jul-2022 00:07 1.2K 
[   ]buildbin-summary.dcf01-Jul-2022 00:07 518  
[TXT]buildsrc-out.txt01-Jul-2022 00:07 808  
[   ]buildsrc-summary.dcf01-Jul-2022 00:07 421  
[TXT]checksrc-out.txt01-Jul-2022 00:07 10K 
[   ]checksrc-summary.dcf01-Jul-2022 00:07 435  
[TXT]install-out.txt01-Jul-2022 00:07 1.0K 
[   ]install-summary.dcf01-Jul-2022 00:07 265