Index of /checkResults/devel/bioc-LATEST/annotatr/raw-results/palomino4

[ICO]NameLast modifiedSizeDescription

[DIR]Parent Directory  -  
[   ]install-summary.dcf07-Aug-2022 00:05 637  
[TXT]install-out.txt07-Aug-2022 00:05 1.8K 
[   ]checksrc-summary.dcf07-Aug-2022 00:05 454  
[TXT]checksrc-out.txt07-Aug-2022 00:05 3.5K 
[   ]buildsrc-summary.dcf07-Aug-2022 00:05 457  
[TXT]buildsrc-out.txt07-Aug-2022 00:05 1.1K 
[   ]buildbin-summary.dcf07-Aug-2022 00:05 539  
[TXT]buildbin-out.txt07-Aug-2022 00:05 1.2K