Back to Multiple platform build/check report for BioC 3.15
[A]BCDEFGHIJKLMNOPQRSTUVWXYZ

This page was generated on 2022-01-18 11:06:43 -0500 (Tue, 18 Jan 2022).

HostnameOSArch (*)R versionInstalled pkgs
nebbiolo1Linux (Ubuntu 20.04.4 LTS)x86_64R Under development (unstable) (2022-01-05 r81451) -- "Unsuffered Consequences" 4161
riesling1Windows Server 2019 Standardx64R Under development (unstable) (2021-11-21 r81221) -- "Unsuffered Consequences" 4056
palomino3Windows Server 2022 Datacenterx64R Under development (unstable) (2021-12-21 r81400 ucrt) -- "Unsuffered Consequences" 3998
merida1macOS 10.14.6 Mojavex86_64R Under development (unstable) (2022-01-05 r81451) -- "Unsuffered Consequences" 4115
Click on any hostname to see more info about the system (e.g. compilers)      (*) as reported by 'uname -p', except on Windows and Mac OS X

CHECK results for annotate on riesling1


To the developers/maintainers of the annotate package:
- Please allow up to 24 hours (and sometimes 48 hours) for your latest push to git@git.bioconductor.org:packages/annotate.git to
reflect on this report. See How and When does the builder pull? When will my changes propagate? here for more information.
- Make sure to use the following settings in order to reproduce any error or warning you see on this page.

raw results

Package 56/2074HostnameOS / ArchINSTALLBUILDCHECKBUILD BIN
annotate 1.73.0  (landing page)
Bioconductor Package Maintainer
Snapshot Date: 2022-01-17 13:55:17 -0500 (Mon, 17 Jan 2022)
git_url: https://git.bioconductor.org/packages/annotate
git_branch: master
git_last_commit: bd601f0
git_last_commit_date: 2021-10-26 11:45:29 -0500 (Tue, 26 Oct 2021)
nebbiolo1Linux (Ubuntu 20.04.4 LTS) / x86_64  OK    OK    OK  UNNEEDED, same version is already published
riesling1Windows Server 2019 Standard / x64  OK    OK    OK    OK  
palomino3Windows Server 2022 Datacenter / x64  OK    OK    ERROR    OK  
merida1macOS 10.14.6 Mojave / x86_64  OK    OK    OK    OK  UNNEEDED, same version is already published

Summary

Package: annotate
Version: 1.73.0
Command: D:\biocbuild\bbs-3.15-bioc\R\bin\R.exe CMD check --no-multiarch --install=check:annotate.install-out.txt --library=D:\biocbuild\bbs-3.15-bioc\R\library --no-vignettes --timings annotate_1.73.0.tar.gz
StartedAt: 2022-01-17 18:17:42 -0500 (Mon, 17 Jan 2022)
EndedAt: 2022-01-17 18:20:11 -0500 (Mon, 17 Jan 2022)
EllapsedTime: 149.3 seconds
RetCode: 0
Status:   OK  
CheckDir: annotate.Rcheck
Warnings: 0

Command output

##############################################################################
##############################################################################
###
### Running command:
###
###   D:\biocbuild\bbs-3.15-bioc\R\bin\R.exe CMD check --no-multiarch --install=check:annotate.install-out.txt --library=D:\biocbuild\bbs-3.15-bioc\R\library --no-vignettes --timings annotate_1.73.0.tar.gz
###
##############################################################################
##############################################################################


* using log directory 'D:/biocbuild/bbs-3.15-bioc/meat/annotate.Rcheck'
* using R Under development (unstable) (2021-11-21 r81221)
* using platform: x86_64-w64-mingw32 (64-bit)
* using session charset: ISO8859-1
* using option '--no-vignettes'
* checking for file 'annotate/DESCRIPTION' ... OK
* this is package 'annotate' version '1.73.0'
* checking package namespace information ... OK
* checking package dependencies ... OK
* checking if this is a source package ... OK
* checking if there is a namespace ... OK
* checking for hidden files and directories ... OK
* checking for portable file names ... OK
* checking whether package 'annotate' can be installed ... OK
* checking installed package size ... OK
* checking package directory ... OK
* checking 'build' directory ... OK
* checking DESCRIPTION meta-information ... OK
* checking top-level files ... OK
* checking for left-over files ... OK
* checking index information ... OK
* checking package subdirectories ... OK
* checking R files for non-ASCII characters ... OK
* checking R files for syntax errors ... OK
* checking whether the package can be loaded ... OK
* checking whether the package can be loaded with stated dependencies ... OK
* checking whether the package can be unloaded cleanly ... OK
* checking whether the namespace can be loaded with stated dependencies ... OK
* checking whether the namespace can be unloaded cleanly ... OK
* checking dependencies in R code ... OK
* checking S3 generic/method consistency ... OK
* checking replacement functions ... OK
* checking foreign function calls ... OK
* checking R code for possible problems ... OK
* checking Rd files ... OK
* checking Rd metadata ... OK
* checking Rd cross-references ... OK
* checking for missing documentation entries ... OK
* checking for code/documentation mismatches ... OK
* checking Rd \usage sections ... OK
* checking Rd contents ... OK
* checking for unstated dependencies in examples ... OK
* checking contents of 'data' directory ... OK
* checking data for non-ASCII characters ... OK
* checking data for ASCII and uncompressed saves ... OK
* checking files in 'vignettes' ... OK
* checking examples ... OK
Examples with CPU (user + system) or elapsed time > 5s
               user system elapsed
chrCats        6.92   0.03    6.96
blastSequences 0.13   0.00   16.48
* checking for unstated dependencies in 'tests' ... OK
* checking tests ...
  Running 'annotate_unit_tests.R'
 OK
* checking for unstated dependencies in vignettes ... OK
* checking package vignettes in 'inst/doc' ... OK
* checking running R code from vignettes ... SKIPPED
* checking re-building of vignette outputs ... SKIPPED
* checking PDF version of manual ... OK
* DONE

Status: OK


Installation output

annotate.Rcheck/00install.out

##############################################################################
##############################################################################
###
### Running command:
###
###   D:\biocbuild\bbs-3.15-bioc\R\bin\R.exe CMD INSTALL annotate
###
##############################################################################
##############################################################################


* installing to library 'D:/biocbuild/bbs-3.15-bioc/R/library'
* installing *source* package 'annotate' ...
** using staged installation
** R
** data
** inst
** byte-compile and prepare package for lazy loading
** help
*** installing help indices
  converting help for package 'annotate'
    finding HTML links ... done
    ACCNUMStats                             html  
    GO2heatmap                              html  
    GOmnplot                                html  
    HTMLPage-class                          html  
    LL2homology                             html  
    PMIDAmat                                html  
    PWAmat                                  html  
    UniGeneQuery                            html  
    accessionToUID                          html  
    annPkgName                              html  
    annotate-defunct                        html  
    aqListGOIDs                             html  
    blastSequences                          html  
    buildChromLocation                      html  
    buildPubMedAbst                         html  
    chrCats                                 html  
    chromLocation-class                     html  
    compatibleVersions                      html  
    dropECode                               html  
    entrezGeneByID                          html  
    entrezGeneQuery                         html  
    filterGOByOntology                      html  
    findNeighbors                           html  
    genbank                                 html  
    getAnnMap                               html  
    getEvidence                             html  
    getGOTerm                               html  
    getOntology                             html  
    getPMInfo                               html  
    getSYMBOL                               html  
    getSeq4Acc                              html  
    getTDRows                               html  
    hasGOannote                             html  
    hgByChroms                              html  
    hgCLengths                              html  
    hgu95AProbLocs                          html  
    hgu95Achroloc                           html  
    hgu95Achrom                             html  
    hgu95All                                html  
    hgu95Asym                               html  
    homoData-class                          html  
    htmlpage                                html  
REDIRECT:topic	 Previous alias or file overwritten by alias: D:/biocbuild/bbs-3.15-bioc/R/library/00LOCK-annotate/00new/annotate/help/htmlpage.html
    isValidkey                              html  
    makeAnchor                              html  
    mapOrgs                                 html  
    organism                                html  
    p2LL                                    html  
    pm.abstGrep                             html  
    pm.getabst                              html  
    pm.titles                               html  
    pmAbst2HTML                             html  
    pmid2MIAME                              html  
    pmidQuery                               html  
    pubMedAbst-class                        html  
    pubmed                                  html  
    readGEOAnn                              html  
    serializeEnv                            html  
    setRepository                           html  
    updateSymbolsToValidKeys                html  
    usedChromGenes                          html  
** building package indices
** installing vignettes
** testing if installed package can be loaded from temporary location
** testing if installed package can be loaded from final location
** testing if installed package keeps a record of temporary installation path
* DONE (annotate)
Making 'packages.html' ...Warning in packageDescription(i, lib.loc = lib, fields = "Title", encoding = "UTF-8") :
  DESCRIPTION file of package 'TarSeqQC' is missing or broken
 done

Tests output

annotate.Rcheck/tests/annotate_unit_tests.Rout


R Under development (unstable) (2021-11-21 r81221) -- "Unsuffered Consequences"
Copyright (C) 2021 The R Foundation for Statistical Computing
Platform: x86_64-w64-mingw32/x64 (64-bit)

R is free software and comes with ABSOLUTELY NO WARRANTY.
You are welcome to redistribute it under certain conditions.
Type 'license()' or 'licence()' for distribution details.

R is a collaborative project with many contributors.
Type 'contributors()' for more information and
'citation()' on how to cite R or R packages in publications.

Type 'demo()' for some demos, 'help()' for on-line help, or
'help.start()' for an HTML browser interface to help.
Type 'q()' to quit R.

> BiocGenerics:::testPackage("annotate")

Attaching package: 'BiocGenerics'

The following objects are masked from 'package:stats':

    IQR, mad, sd, var, xtabs

The following objects are masked from 'package:base':

    Filter, Find, Map, Position, Reduce, anyDuplicated, append,
    as.data.frame, basename, cbind, colnames, dirname, do.call,
    duplicated, eval, evalq, get, grep, grepl, intersect, is.unsorted,
    lapply, mapply, match, mget, order, paste, pmax, pmax.int, pmin,
    pmin.int, rank, rbind, rownames, sapply, setdiff, sort, table,
    tapply, union, unique, unsplit, which.max, which.min

Welcome to Bioconductor

    Vignettes contain introductory material; view with
    'browseVignettes()'. To cite Bioconductor, see
    'citation("Biobase")', and for packages 'citation("pkgname")'.


Attaching package: 'S4Vectors'

The following objects are masked from 'package:base':

    I, expand.grid, unname


Attaching package: 'IRanges'

The following object is masked from 'package:grDevices':

    windows

Loading required package: org.Hs.eg.db

'select()' returned 1:many mapping between keys and columns


RUNIT TEST PROTOCOL -- Mon Jan 17 18:19:59 2022 
*********************************************** 
Number of test functions: 1 
Number of errors: 0 
Number of failures: 0 

 
1 Test Suite : 
annotate RUnit Tests - 1 test function, 0 errors, 0 failures
Number of test functions: 1 
Number of errors: 0 
Number of failures: 0 
> 
> proc.time()
   user  system elapsed 
   7.45    0.93    8.43 

Example timings

annotate.Rcheck/annotate-Ex.timings

nameusersystemelapsed
ACCNUMStats1.580.041.63
GO2heatmap0.140.000.14
GOmnplot0.080.000.08
HTMLPage-class000
LL2homology000
PMIDAmat0.090.020.10
PWAmat1.810.031.84
UniGeneQuery000
accessionToUID0.320.012.25
annPkgName000
aqListGOIDs0.150.020.18
blastSequences 0.13 0.0016.48
buildChromLocation0.560.030.59
buildPubMedAbst0.020.000.61
chrCats6.920.036.96
chromLocation-class0.330.130.45
compatibleVersions0.030.000.03
dropECode0.030.000.03
entrezGeneByID000
entrezGeneQuery000
filterGOByOntology0.030.000.03
findNeighbors0.030.000.05
genbank0.080.030.75
getAnnMap0.020.000.06
getEvidence0.030.000.03
getGOTerm0.140.000.14
getOntology0.040.000.03
getPMInfo0.200.000.72
getSYMBOL0.080.010.10
getSeq4Acc0.000.000.43
hasGOannote0.010.000.02
hgByChroms000
hgCLengths000
hgu95Achroloc0.050.000.05
hgu95Achrom0.020.050.06
hgu95All0.040.000.05
hgu95Asym0.030.010.04
homoData-class0.020.000.02
htmlpage0.020.000.01
isValidkey000
makeAnchor000
organism0.460.020.49
p2LL000
pm.abstGrep0.470.051.50
pm.getabst0.600.031.40
pm.titles0.890.001.71
pmAbst2HTML0.030.000.62
pmid2MIAME000
pmidQuery000
pubMedAbst-class0.010.000.52
pubmed0.020.000.62
readGEOAnn000
serializeEnv000
setRepository000
updateSymbolsToValidKeys000
usedChromGenes0.060.000.07