Index of /checkResults/devel/bioc-LATEST/annotate/raw-results/palomino4

[ICO]NameLast modifiedSizeDescription

[DIR]Parent Directory  -  
[TXT]buildbin-out.txt25-Jun-2022 00:06 1.2K 
[   ]buildbin-summary.dcf25-Jun-2022 00:06 539  
[TXT]buildsrc-out.txt25-Jun-2022 00:06 904  
[   ]buildsrc-summary.dcf25-Jun-2022 00:06 457  
[TXT]checksrc-out.txt25-Jun-2022 00:06 4.0K 
[   ]checksrc-summary.dcf25-Jun-2022 00:06 458  
[TXT]install-out.txt25-Jun-2022 00:06 1.8K 
[   ]install-summary.dcf25-Jun-2022 00:06 637