Index of /checkResults/devel/bioc-LATEST/annotate/raw-results/nebbiolo2

[ICO]NameLast modifiedSizeDescription

[DIR]Parent Directory  -  
[TXT]buildsrc-out.txt01-Jul-2022 00:04 873  
[   ]buildsrc-summary.dcf01-Jul-2022 00:04 420  
[TXT]checksrc-out.txt01-Jul-2022 00:04 3.3K 
[   ]checksrc-summary.dcf01-Jul-2022 00:04 428  
[TXT]install-out.txt01-Jul-2022 00:04 958  
[   ]install-summary.dcf01-Jul-2022 00:04 261