Index of /checkResults/devel/bioc-LATEST/annotate/raw-results/lconway

[ICO]NameLast modifiedSizeDescription

[DIR]Parent Directory  -  
[TXT]buildbin-out.txt01-Jul-2022 00:07 1.2K 
[   ]buildbin-summary.dcf01-Jul-2022 00:07 536  
[TXT]buildsrc-out.txt01-Jul-2022 00:07 883  
[   ]buildsrc-summary.dcf01-Jul-2022 00:07 430  
[TXT]checksrc-out.txt01-Jul-2022 00:07 3.4K 
[   ]checksrc-summary.dcf01-Jul-2022 00:07 448  
[TXT]install-out.txt01-Jul-2022 00:07 1.0K 
[   ]install-summary.dcf01-Jul-2022 00:07 271