Index of /checkResults/devel/bioc-LATEST/annmap/raw-results

[ICO]NameLast modifiedSizeDescription

[DIR]Parent Directory  -  
[DIR]nebbiolo2/11-Jun-2023 00:05 -  
[DIR]lconway/11-Jun-2023 00:07 -  
[   ]info.dcf11-Jun-2023 00:08 280  
[DIR]kunpeng2/11-Jun-2023 00:08 -