Back to Multiple platform build/check report for BioC 3.17
[A]BCDEFGHIJKLMNOPQRSTUVWXYZ

This page was generated on 2022-12-03 11:08:32 -0500 (Sat, 03 Dec 2022).

HostnameOSArch (*)R versionInstalled pkgs
nebbiolo1Linux (Ubuntu 22.04.1 LTS)x86_64R Under development (unstable) (2022-11-30 r83393) -- "Unsuffered Consequences" 4277
palomino3Windows Server 2022 Datacenterx64R Under development (unstable) (2022-11-30 r83393 ucrt) -- "Unsuffered Consequences" 4152
merida1macOS 10.14.6 Mojavex86_64R Under development (unstable) (2022-11-30 r83393) -- "Unsuffered Consequences" 4236
Click on any hostname to see more info about the system (e.g. compilers)      (*) as reported by 'uname -p', except on Windows and Mac OS X

BUILD results for annaffy on merida1


To the developers/maintainers of the annaffy package:
- Please allow up to 24 hours (and sometimes 48 hours) for your latest push to git@git.bioconductor.org:packages/annaffy.git to
reflect on this report. See How and When does the builder pull? When will my changes propagate? for more information.
- Make sure to use the following settings in order to reproduce any error or warning you see on this page.

raw results

Package 52/2155HostnameOS / ArchINSTALLBUILDCHECKBUILD BIN
annaffy 1.71.0  (landing page)
Colin A. Smith
Snapshot Date: 2022-12-02 14:00:12 -0500 (Fri, 02 Dec 2022)
git_url: https://git.bioconductor.org/packages/annaffy
git_branch: master
git_last_commit: 02defd3
git_last_commit_date: 2022-11-01 10:35:52 -0500 (Tue, 01 Nov 2022)
nebbiolo1Linux (Ubuntu 22.04.1 LTS) / x86_64  OK    OK    WARNINGS  UNNEEDED, same version is already published
palomino3Windows Server 2022 Datacenter / x64  OK    OK    WARNINGS    OK  UNNEEDED, same version is already published
merida1macOS 10.14.6 Mojave / x86_64  OK    OK    WARNINGS    OK  UNNEEDED, same version is already published

Summary

Package: annaffy
Version: 1.71.0
Command: /Library/Frameworks/R.framework/Resources/bin/R CMD build --keep-empty-dirs --no-resave-data annaffy
StartedAt: 2022-12-02 16:42:57 -0500 (Fri, 02 Dec 2022)
EndedAt: 2022-12-02 16:44:21 -0500 (Fri, 02 Dec 2022)
EllapsedTime: 83.7 seconds
RetCode: 0
Status:   OK  
PackageFile: annaffy_1.71.0.tar.gz
PackageFileSize: 307.8 KiB

Command output

##############################################################################
##############################################################################
###
### Running command:
###
###   /Library/Frameworks/R.framework/Resources/bin/R CMD build --keep-empty-dirs --no-resave-data annaffy
###
##############################################################################
##############################################################################


* checking for file ‘annaffy/DESCRIPTION’ ... OK
* preparing ‘annaffy’:
* checking DESCRIPTION meta-information ... OK
* installing the package to build vignettes
* creating vignettes ... OK
* checking for LF line-endings in source and make files and shell scripts
* checking for empty or unneeded directories
* looking to see if a ‘data/datalist’ file should be added
* building ‘annaffy_1.71.0.tar.gz’